BEGIN:VCALENDAR
VERSION:2.0
PRODID:-//Geu Elkartea - ECPv5.1.2.1//NONSGML v1.0//EN
CALSCALE:GREGORIAN
METHOD:PUBLISH
X-WR-CALNAME:Geu Elkartea
X-ORIGINAL-URL:https://geuelkartea.eus
X-WR-CALDESC:Events for Geu Elkartea
BEGIN:VTIMEZONE
TZID:Europe/Helsinki
BEGIN:DAYLIGHT
TZOFFSETFROM:+0200
TZOFFSETTO:+0300
TZNAME:EEST
DTSTART:20250330T010000
END:DAYLIGHT
BEGIN:STANDARD
TZOFFSETFROM:+0300
TZOFFSETTO:+0200
TZNAME:EET
DTSTART:20251026T010000
END:STANDARD
END:VTIMEZONE
BEGIN:VEVENT
DTSTART;TZID=Europe/Helsinki:20250306T193000
DTEND;TZID=Europe/Helsinki:20250306T210000
DTSTAMP:20260421T171138
CREATED:20250217T112440Z
LAST-MODIFIED:20250303T114612Z
UID:16262-1741289400-1741294800@geuelkartea.eus
SUMMARY:[SARRERAK DESKONTUAREKIN]: ZORRETAN
DESCRIPTION:Hika Teatroa konpainiak Zorretan obra sortu du 35. urteurrena ospatzeko. Amatasuna\, zaintza eta maitasunari buruzko tragikomedia absurdoa. \n  \nNoiz: Martxoak 6\, 19:30\nNon: Jesús Ibañez de Matauco Antzokia (Hegoalde Gizarte Etxea) \n \n*BAKARRIK BI SARRERA PERTSONA BAKOITZEKO (DERRIGORREZKOA DA MINTZALAGUN EDO GEUKIDE IZATEA SARRERAK ESKURATZEKO)* \n
URL:https://geuelkartea.eus/ekitaldia/sarrerak-deskontuarekin-zorretan/
LOCATION:Hegoalde Gizarte Etxea\, Alberto Schommer\, 10\, Gasteiz
CATEGORIES:Gasteizko Mintzalaguna,Sarrerak Deskontuarekin
GEO:42.8368128;-2.6665405
X-APPLE-STRUCTURED-LOCATION;VALUE=URI;X-ADDRESS=Hegoalde Gizarte Etxea Alberto Schommer 10 Gasteiz;X-APPLE-RADIUS=500;X-TITLE=Alberto Schommer\, 10:geo:-2.6665405,42.8368128
END:VEVENT
END:VCALENDAR