BEGIN:VCALENDAR
VERSION:2.0
PRODID:-//Geu Elkartea - ECPv5.1.2.1//NONSGML v1.0//EN
CALSCALE:GREGORIAN
METHOD:PUBLISH
X-WR-CALNAME:Geu Elkartea
X-ORIGINAL-URL:https://geuelkartea.eus
X-WR-CALDESC:Events for Geu Elkartea
BEGIN:VTIMEZONE
TZID:Europe/Helsinki
BEGIN:DAYLIGHT
TZOFFSETFROM:+0200
TZOFFSETTO:+0300
TZNAME:EEST
DTSTART:20260329T010000
END:DAYLIGHT
BEGIN:STANDARD
TZOFFSETFROM:+0300
TZOFFSETTO:+0200
TZNAME:EET
DTSTART:20261025T010000
END:STANDARD
END:VTIMEZONE
BEGIN:VEVENT
DTSTART;TZID=Europe/Helsinki:20260625T193000
DTEND;TZID=Europe/Helsinki:20260625T210000
DTSTAMP:20260421T025554
CREATED:20251003T105334Z
LAST-MODIFIED:20251003T111304Z
UID:16729-1782415800-1782421200@geuelkartea.eus
SUMMARY:[IRAKURLE KLUBA]: LAKIOA
DESCRIPTION:Josu Goikoetxea\,\nLakioa\,\nElkar 2025. \nAmaginarrebaren etxean katakume jaioberriak akabatzera behartzen duten gizonaren paraderoa\, parranda-gauaren osteko goizean lagun zahar-berri baten konpainian esnatuko den emakumearen harridura\, guraso hilen baserrira itzultzen den droga-saltzailearen ibilerak\, enpresako buruzagitza hartzera deitua den gazte arrakastatsuaren larriminak…\nGai eta giro ugaritako bederatzi kontakizun bildu ditu Josu Goikoetxeak bere lehenengo narratiba-liburu honetan\, Joseba Jaka bekaren laguntzaz. Estilo zein teknika desberdinak erabiliz eta ipuin bakoitzari dagokion tonu nahiz hizkera doia hautatuz\, giza izaeraren misterio igarrezinak\, gizarteko geruza askotarikoak eta harremanen korapilo zenbatezinak jartzen ditu agerian egileak ipuin sakon bezain eder hauetan. \nKoordinatzailea: Iban Zaldua\nTwitter: @gastIraKluba\nEmail: irakurlekluba@geuelkartea.eus \n25-26 EGITARAU OSOA HEMEN \n
URL:https://geuelkartea.eus/ekitaldia/irakurle-kluba-lakioa/
LOCATION:Ignacioa Aldecoa Kultura Etxea\, Florida ibilbidea 9\, Gasteiz
CATEGORIES:Gasteizko irakurle kluba
GEO:42.8441449;-2.6751156
X-APPLE-STRUCTURED-LOCATION;VALUE=URI;X-ADDRESS=Ignacioa Aldecoa Kultura Etxea Florida ibilbidea 9 Gasteiz;X-APPLE-RADIUS=500;X-TITLE=Florida ibilbidea 9:geo:-2.6751156,42.8441449
END:VEVENT
END:VCALENDAR