BEGIN:VCALENDAR
VERSION:2.0
PRODID:-//Geu Elkartea - ECPv5.1.2.1//NONSGML v1.0//EN
CALSCALE:GREGORIAN
METHOD:PUBLISH
X-WR-CALNAME:Geu Elkartea
X-ORIGINAL-URL:https://geuelkartea.eus
X-WR-CALDESC:Events for Geu Elkartea
BEGIN:VTIMEZONE
TZID:Europe/Helsinki
BEGIN:DAYLIGHT
TZOFFSETFROM:+0200
TZOFFSETTO:+0300
TZNAME:EEST
DTSTART:20260329T010000
END:DAYLIGHT
BEGIN:STANDARD
TZOFFSETFROM:+0300
TZOFFSETTO:+0200
TZNAME:EET
DTSTART:20261025T010000
END:STANDARD
END:VTIMEZONE
BEGIN:VEVENT
DTSTART;TZID=Europe/Helsinki:20260507T193000
DTEND;TZID=Europe/Helsinki:20260507T210000
DTSTAMP:20260420T032801
CREATED:20251003T105527Z
LAST-MODIFIED:20260324T082527Z
UID:16725-1778182200-1778187600@geuelkartea.eus
SUMMARY:[IRAKURLE KLUBA]: HETERO
DESCRIPTION:Uxue Alberdi\,\nHetero\,\nSusa 2024. \nAraua eta arrakala. Bien arteko tentsioan ageri zaizkigu ipuin hauetako protagonistak. Emakumezkoak dira ia denak\, eta gizonez ari dira\, nagusiki. Haiek euren gorputzetan\, memoria afektiboan eta egunerokoan utzitako arrastoez. Gizonekiko espektatibez eta dezepzioez: unean bertan egin eta esan ez ziren horiez. \nAitak —odolekoak\, kulturalak\, politikoak—\, maitaleak\, adiskideak ageri dira kontakizunotan. Tesi zuzendari\, editore eta militante “idealizatuak”; hiru laguneko gorputz bakar bat frenorik gabe aldapan behera; Zarautz\, Elgoibar\, Kuba —“desira aplastante bat”—; whatsapp bidezko literatura lezioak; ezin bete diren promesak urpean eta naufragatzen utzitako bizi-puskak; hiltzen jarraitzen duen aita bat\, alargun igerilari bat. Tarteko jendearen presentzia aztoragarria eta hizkuntzaren dardara bizia. \nKoordinatzailea: Iban Zaldua\nTwitter: @gastIraKluba\nEmail: irakurlekluba@geuelkartea.eus \n25-26 EGITARAU OSOA HEMEN \n
URL:https://geuelkartea.eus/ekitaldia/irakurle-kluba-hetero/
LOCATION:Ignacioa Aldecoa Kultura Etxea\, Florida ibilbidea 9\, Gasteiz
CATEGORIES:Gasteizko irakurle kluba
GEO:42.8441449;-2.6751156
X-APPLE-STRUCTURED-LOCATION;VALUE=URI;X-ADDRESS=Ignacioa Aldecoa Kultura Etxea Florida ibilbidea 9 Gasteiz;X-APPLE-RADIUS=500;X-TITLE=Florida ibilbidea 9:geo:-2.6751156,42.8441449
END:VEVENT
END:VCALENDAR