BEGIN:VCALENDAR
VERSION:2.0
PRODID:-//Geu Elkartea - ECPv5.1.2.1//NONSGML v1.0//EN
CALSCALE:GREGORIAN
METHOD:PUBLISH
X-WR-CALNAME:Geu Elkartea
X-ORIGINAL-URL:https://geuelkartea.eus
X-WR-CALDESC:Events for Geu Elkartea
BEGIN:VTIMEZONE
TZID:Europe/Helsinki
BEGIN:DAYLIGHT
TZOFFSETFROM:+0200
TZOFFSETTO:+0300
TZNAME:EEST
DTSTART:20240331T010000
END:DAYLIGHT
BEGIN:STANDARD
TZOFFSETFROM:+0300
TZOFFSETTO:+0200
TZNAME:EET
DTSTART:20241027T010000
END:STANDARD
END:VTIMEZONE
BEGIN:VEVENT
DTSTART;TZID=Europe/Helsinki:20240630T170000
DTEND;TZID=Europe/Helsinki:20240630T193000
DTSTAMP:20260421T081743
CREATED:20240621T122402Z
LAST-MODIFIED:20240621T122402Z
UID:15085-1719766800-1719775800@geuelkartea.eus
SUMMARY:[IGANDEAK JAI: MOTX PAILAZOA]
DESCRIPTION:  \n \n“MOTX PAILAZOA\, KONTU KONTARI” \nUrtebetetze eguna dugu gaurkoa. Martintxok\, urteak bete ditu eta sorpresaz beteriko eguna igaroko du\, Motx pailazoak\, bere lagunik onenarekin batera. Besteak beste\, kontu kontari arituko da\, sentimenduez beteriko ipuinak irakurriz. Ea zer kontatzen digun… \n\nNOIZ? Ekainaren 30ean\, igandea\, arratsaldeko 17.00-18:00 ikuskizuna + 18:00-19.00 tailerra\nNON? Salburuko txosnagunean\nZER? Motx pailazoa\, ipuin kontaketa\n3 urtetik gorako umeentzako ikuskizuna + tailerra\n\n
URL:https://geuelkartea.eus/ekitaldia/igandeak-jai-motx-pailazoa/
LOCATION:Gipuzkoa\, Spain
CATEGORIES:Igandeak jai
END:VEVENT
END:VCALENDAR