BEGIN:VCALENDAR
VERSION:2.0
PRODID:-//Geu Elkartea - ECPv5.1.2.1//NONSGML v1.0//EN
CALSCALE:GREGORIAN
METHOD:PUBLISH
X-WR-CALNAME:Geu Elkartea
X-ORIGINAL-URL:https://geuelkartea.eus
X-WR-CALDESC:Events for Geu Elkartea
BEGIN:VTIMEZONE
TZID:Europe/Helsinki
BEGIN:DAYLIGHT
TZOFFSETFROM:+0200
TZOFFSETTO:+0300
TZNAME:EEST
DTSTART:20230326T010000
END:DAYLIGHT
BEGIN:STANDARD
TZOFFSETFROM:+0300
TZOFFSETTO:+0200
TZNAME:EET
DTSTART:20231029T010000
END:STANDARD
END:VTIMEZONE
BEGIN:VEVENT
DTSTART;TZID=Europe/Helsinki:20230617T190000
DTEND;TZID=Europe/Helsinki:20230617T200000
DTSTAMP:20260421T170840
CREATED:20230530T064003Z
LAST-MODIFIED:20230531T115738Z
UID:13387-1687028400-1687032000@geuelkartea.eus
SUMMARY:[IGANDEAK JAI] Motx pailazoa pozaren parkean
DESCRIPTION:“MOTX pailazoa pozaren parkean”  \nGaur egun berezia izango da pozaren parkean… Motxek\, bere lagun berriak ezagutuko ditu. Jai erraldoia prestatu nahi izango du hau ospatzeko\, baina tartean arazo batzuk sortuko zaizkio. Irri\, kantu eta dantza eginez emango dio amaiera egunari. Hemendik aurrera ez da pozaren parkean bakarrik egon beharko\, hainbat abentura ditu eta aurretik\, bere lagun berriekin. Prest? \n\nNOIZ? Ekainaren 17an\, larunbata\, arratsaldeko 19:00etan\nNON? Adurtza auzoan · Los molinos parking-ean\nZER? Motx Pailazoa\n\n*Adurtzako eskolarekin elkarlanean antolatutako Igandeak Jai hau Adurtzako jaien egitarauaren barruan egingu dugu. Beraz\, ez da tailerrik izango. \n
URL:https://geuelkartea.eus/ekitaldia/igandeak-jai-motx-pailazoa-pozaren-parkean/
LOCATION:Adurtza · Los molinos Parking-a\, Cauce de los Molinos Kalea\, 4B\,\, Vitoria-Gasteiz\, Araba\, 01006\, Spain
CATEGORIES:Igandeak jai
ATTACH;FMTTYPE=image/jpeg:https://geuelkartea.eus/wp-content/uploads/2023/05/Motx_IJ_kartela.jpg
END:VEVENT
END:VCALENDAR