BEGIN:VCALENDAR
VERSION:2.0
PRODID:-//Geu Elkartea - ECPv5.1.2.1//NONSGML v1.0//EN
CALSCALE:GREGORIAN
METHOD:PUBLISH
X-WR-CALNAME:Geu Elkartea
X-ORIGINAL-URL:https://geuelkartea.eus
X-WR-CALDESC:Events for Geu Elkartea
BEGIN:VTIMEZONE
TZID:Europe/Helsinki
BEGIN:DAYLIGHT
TZOFFSETFROM:+0200
TZOFFSETTO:+0300
TZNAME:EEST
DTSTART:20190331T010000
END:DAYLIGHT
BEGIN:STANDARD
TZOFFSETFROM:+0300
TZOFFSETTO:+0200
TZNAME:EET
DTSTART:20191027T010000
END:STANDARD
END:VTIMEZONE
BEGIN:VEVENT
DTSTART;TZID=Europe/Helsinki:20190929T183000
DTEND;TZID=Europe/Helsinki:20190929T203000
DTSTAMP:20260421T061932
CREATED:20190916T105036Z
LAST-MODIFIED:20190916T105036Z
UID:4309-1569781800-1569789000@geuelkartea.eus
SUMMARY:[IGANDEAK JAI] ‘DJ Kaktus’ & tailerra
DESCRIPTION:   \nigandeak jai_Karmeldarrak_2019_pdf \n               \n     \n
URL:https://geuelkartea.eus/ekitaldia/igandeak-jai-dj-kaktus-tailerra-2/
CATEGORIES:Igandeak jai
END:VEVENT
END:VCALENDAR