BEGIN:VCALENDAR
VERSION:2.0
PRODID:-//Geu Elkartea - ECPv5.1.2.1//NONSGML v1.0//EN
CALSCALE:GREGORIAN
METHOD:PUBLISH
X-WR-CALNAME:Geu Elkartea
X-ORIGINAL-URL:https://geuelkartea.eus
X-WR-CALDESC:Events for Geu Elkartea
BEGIN:VTIMEZONE
TZID:Europe/Helsinki
BEGIN:DAYLIGHT
TZOFFSETFROM:+0200
TZOFFSETTO:+0300
TZNAME:EEST
DTSTART:20250330T010000
END:DAYLIGHT
BEGIN:STANDARD
TZOFFSETFROM:+0300
TZOFFSETTO:+0200
TZNAME:EET
DTSTART:20251026T010000
END:STANDARD
END:VTIMEZONE
BEGIN:VEVENT
DTSTART;TZID=Europe/Helsinki:20250312T183000
DTEND;TZID=Europe/Helsinki:20250312T200000
DTSTAMP:20260421T153457
CREATED:20250217T113328Z
LAST-MODIFIED:20250219T084807Z
UID:16272-1741804200-1741809600@geuelkartea.eus
SUMMARY:[EKINTZA OSAGARRIA]: GARAGARDO DASTAKETA
DESCRIPTION:GaragArt-en eskutik garagardo dastaketa eskaintzen dugu. GaragArt 2014ean Gasteizen sortutako garagardotegi ibiltaria da eta oraingoan\, Errexala elkartean egongo dira garagardoaren magia erakusten. \nZizka-mizkak ere egongo dira! \nNoiz: Martxoak 12\, 18:30\nNon: Errexala elkartea \n \n
URL:https://geuelkartea.eus/ekitaldia/ekintza-osagarria-garagardo-dastaketa-2/
LOCATION:Errexala elkartea\, Aiztogile kalea\, 62\, Gasteiz\, Araba\, 01010\, Spain
CATEGORIES:Gasteizko Mintzalaguna
END:VEVENT
END:VCALENDAR