BEGIN:VCALENDAR
VERSION:2.0
PRODID:-//Geu Elkartea - ECPv5.1.2.1//NONSGML v1.0//EN
CALSCALE:GREGORIAN
METHOD:PUBLISH
X-WR-CALNAME:Geu Elkartea
X-ORIGINAL-URL:https://geuelkartea.eus
X-WR-CALDESC:Events for Geu Elkartea
BEGIN:VTIMEZONE
TZID:Europe/Helsinki
BEGIN:DAYLIGHT
TZOFFSETFROM:+0200
TZOFFSETTO:+0300
TZNAME:EEST
DTSTART:20260329T010000
END:DAYLIGHT
BEGIN:STANDARD
TZOFFSETFROM:+0300
TZOFFSETTO:+0200
TZNAME:EET
DTSTART:20261025T010000
END:STANDARD
END:VTIMEZONE
BEGIN:VEVENT
DTSTART;TZID=Europe/Helsinki:20260513T180000
DTEND;TZID=Europe/Helsinki:20260513T180000
DTSTAMP:20260420T081401
CREATED:20260417T080506Z
LAST-MODIFIED:20260417T080614Z
UID:17777-1778695200-1778695200@geuelkartea.eus
SUMMARY:[BISITA GIDATUA]: "GASTEIZKO TOPONIMIA. GURE LEKU IZENAK"
DESCRIPTION:Euskaltzaindia eta Gasteizko Udala taldekako bisita gidatua antolatu dute Hegoalde gizarte-etxeetan. Bertan instalatu dituzten “GASTEIZKO TOPONIMIA. GURE LEKU IZENAK” erakusketak toponimiaren Elena Martinez de Madina adituaren gidaritzapean ikusi ahal izango dugu maiatzaren 13an. \nNon? Hegoaldeko Gizarte Etxean\nNoiz? Maiatzaren 13an\, asteazkena\, 18:00tan \n \n
URL:https://geuelkartea.eus/ekitaldia/bisita-gidatua-gasteizko-toponimia-gure-leku-izenak/
LOCATION:Hegoalde Gizarte Etxea\, Alberto Schommer\, 10\, Gasteiz
CATEGORIES:Gasteizko Mintzalaguna,Ibilbide gidatuak
GEO:42.8368128;-2.6665405
X-APPLE-STRUCTURED-LOCATION;VALUE=URI;X-ADDRESS=Hegoalde Gizarte Etxea Alberto Schommer 10 Gasteiz;X-APPLE-RADIUS=500;X-TITLE=Alberto Schommer\, 10:geo:-2.6665405,42.8368128
END:VEVENT
END:VCALENDAR