BEGIN:VCALENDAR
VERSION:2.0
PRODID:-//Geu Elkartea - ECPv5.1.2.1//NONSGML v1.0//EN
CALSCALE:GREGORIAN
METHOD:PUBLISH
X-WR-CALNAME:Geu Elkartea
X-ORIGINAL-URL:https://geuelkartea.eus
X-WR-CALDESC:Events for Geu Elkartea
BEGIN:VTIMEZONE
TZID:Europe/Helsinki
BEGIN:DAYLIGHT
TZOFFSETFROM:+0200
TZOFFSETTO:+0300
TZNAME:EEST
DTSTART:20240331T010000
END:DAYLIGHT
BEGIN:STANDARD
TZOFFSETFROM:+0300
TZOFFSETTO:+0200
TZNAME:EET
DTSTART:20241027T010000
END:STANDARD
END:VTIMEZONE
BEGIN:VEVENT
DTSTART;TZID=Europe/Helsinki:20240520T183000
DTEND;TZID=Europe/Helsinki:20240520T203000
DTSTAMP:20260421T105123
CREATED:20240426T113528Z
LAST-MODIFIED:20240426T113528Z
UID:14944-1716229800-1716237000@geuelkartea.eus
SUMMARY:[BERTSOAK VERSUS]
DESCRIPTION:Poetak Maiatzean eta Arabako Bertsozale Elkartearekin elkarlanean euskarazko hiru saio antolatu ditugu aurten.\nPoesia\, bertsolaritza\, eta dantza gazteek egindako ekitaldi fresko batean elkartzen dira. \n2 poeta\, 3 bertsolari eta dantza talde bat. \nPoemak eta bertsoak tartekatuko dira argazki zein irudi ilustratuak uztartuz.\nMota guztietako publikoarentzat\, baina bereziki gazteentzat. \nNoiz: Maiatzak 20\, 18:30\nNon: Vital fundazioaren kulturunea (Dendarabako 1.solairua) \nDinamizatzailea: Marta Ugalde \nBertsolariak: \n\nIzar Mendiguren\nMartin Abarrategi\nUnai Anda\n\nPoetak: \n\nOihane Zuberoa Garmendia\nLibe Goitia\n\nDantza taldea: \n\nArteria espazio kreatiboa\n\n  \nSarrera librea da baina izen ematea dago parte-hartzea bermatzeko. \n \n
URL:https://geuelkartea.eus/ekitaldia/bertsoak-versus/
LOCATION:Vital Fundazioa Kulturunea (Dendaraba)\, Bakea kalea\, 5 - 1. solairua\, Gasteiz\, Araba\, 01001\, Spain
CATEGORIES:Bestelakoak
END:VEVENT
END:VCALENDAR