BEGIN:VCALENDAR
VERSION:2.0
PRODID:-//Geu Elkartea - ECPv5.1.2.1//NONSGML v1.0//EN
CALSCALE:GREGORIAN
METHOD:PUBLISH
X-WR-CALNAME:Geu Elkartea
X-ORIGINAL-URL:https://geuelkartea.eus
X-WR-CALDESC:Events for Geu Elkartea
BEGIN:VTIMEZONE
TZID:Europe/Helsinki
BEGIN:DAYLIGHT
TZOFFSETFROM:+0200
TZOFFSETTO:+0300
TZNAME:EEST
DTSTART:20230326T010000
END:DAYLIGHT
BEGIN:STANDARD
TZOFFSETFROM:+0300
TZOFFSETTO:+0200
TZNAME:EET
DTSTART:20231029T010000
END:STANDARD
END:VTIMEZONE
BEGIN:VEVENT
DTSTART;TZID=Europe/Helsinki:20230608T190000
DTEND;TZID=Europe/Helsinki:20230608T200000
DTSTAMP:20260421T152807
CREATED:20230511T130952Z
LAST-MODIFIED:20230512T104343Z
UID:13301-1686250800-1686254400@geuelkartea.eus
SUMMARY:[EKINTZA OSAGARRIA]: Garagardo dastaketa
DESCRIPTION:GaragArt-en eskutik garagardo dastaketa eskaintzen dugu. GaragArt 2014ean Gasteizen sortutako garagardotegi ibiltaria da eta oraingoan\, Errexala elkartean egongo dira garagardoaren magia erakusten. \nZizka-mizkak ere egongo dira! \nNoiz: Maiatzak 8\, 19:00\nNon: Errexala elkartea \n \n
URL:https://geuelkartea.eus/ekitaldia/13301/
LOCATION:Errexala elkartea\, Aiztogile kalea\, 62\, Gasteiz\, Araba\, 01010\, Spain
CATEGORIES:Gasteizko Mintzalaguna
END:VEVENT
END:VCALENDAR